BEGIN:VCALENDAR
VERSION:2.0
PRODID:-//Linda Barnicott Publishing, LLC - ECPv6.15.17//NONSGML v1.0//EN
CALSCALE:GREGORIAN
METHOD:PUBLISH
X-ORIGINAL-URL:https://lindabarnicott.com
X-WR-CALDESC:Events for Linda Barnicott Publishing, LLC
REFRESH-INTERVAL;VALUE=DURATION:PT1H
X-Robots-Tag:noindex
X-PUBLISHED-TTL:PT1H
BEGIN:VTIMEZONE
TZID:America/New_York
BEGIN:DAYLIGHT
TZOFFSETFROM:-0500
TZOFFSETTO:-0400
TZNAME:EDT
DTSTART:20180311T070000
END:DAYLIGHT
BEGIN:STANDARD
TZOFFSETFROM:-0400
TZOFFSETTO:-0500
TZNAME:EST
DTSTART:20181104T060000
END:STANDARD
BEGIN:DAYLIGHT
TZOFFSETFROM:-0500
TZOFFSETTO:-0400
TZNAME:EDT
DTSTART:20190310T070000
END:DAYLIGHT
BEGIN:STANDARD
TZOFFSETFROM:-0400
TZOFFSETTO:-0500
TZNAME:EST
DTSTART:20191103T060000
END:STANDARD
BEGIN:DAYLIGHT
TZOFFSETFROM:-0500
TZOFFSETTO:-0400
TZNAME:EDT
DTSTART:20200308T070000
END:DAYLIGHT
BEGIN:STANDARD
TZOFFSETFROM:-0400
TZOFFSETTO:-0500
TZNAME:EST
DTSTART:20201101T060000
END:STANDARD
END:VTIMEZONE
BEGIN:VEVENT
DTSTART;TZID=America/New_York:20191005T090000
DTEND;TZID=America/New_York:20191005T150000
DTSTAMP:20260420T060046
CREATED:20191003T193200Z
LAST-MODIFIED:20191003T193200Z
UID:15163-1570266000-1570287600@lindabarnicott.com
SUMMARY:Harvest Festival and Craft Show
DESCRIPTION:
URL:https://lindabarnicott.com/event/harvest-festival-and-craft-show/
LOCATION:Sunset Hills UP Church\, 900 Country Club Drive\, Pittsburgh\, PA\, 15228\, United States
END:VEVENT
BEGIN:VEVENT
DTSTART;TZID=America/New_York:20191011T090000
DTEND;TZID=America/New_York:20191011T180000
DTSTAMP:20260420T060046
CREATED:20190617T114053Z
LAST-MODIFIED:20190617T114053Z
UID:14971-1570784400-1570816800@lindabarnicott.com
SUMMARY:Fort Ligonier Days
DESCRIPTION:
URL:https://lindabarnicott.com/event/fort-ligonier-days-5/
LOCATION:Fort Ligonier\, South Market Street\, Ligonier\, PA\, 15658\, United States
END:VEVENT
BEGIN:VEVENT
DTSTART;TZID=America/New_York:20191012T090000
DTEND;TZID=America/New_York:20191012T180000
DTSTAMP:20260420T060046
CREATED:20190617T114216Z
LAST-MODIFIED:20190617T114216Z
UID:14973-1570870800-1570903200@lindabarnicott.com
SUMMARY:Fort Ligonier Days
DESCRIPTION:
URL:https://lindabarnicott.com/event/fort-ligonier-days-6/
LOCATION:Fort Ligonier\, South Market Street\, Ligonier\, PA\, 15658\, United States
END:VEVENT
BEGIN:VEVENT
DTSTART;TZID=America/New_York:20191013T103000
DTEND;TZID=America/New_York:20191013T170000
DTSTAMP:20260420T060046
CREATED:20190617T114530Z
LAST-MODIFIED:20190617T114530Z
UID:14975-1570962600-1570986000@lindabarnicott.com
SUMMARY:Fort Ligonier Days
DESCRIPTION:
URL:https://lindabarnicott.com/event/fort-ligonier-days-7/
LOCATION:Fort Ligonier\, South Market Street\, Ligonier\, PA\, 15658\, United States
END:VEVENT
END:VCALENDAR