BEGIN:VCALENDAR
VERSION:2.0
PRODID:-//Linda Barnicott Publishing, LLC - ECPv6.15.17//NONSGML v1.0//EN
CALSCALE:GREGORIAN
METHOD:PUBLISH
X-WR-CALNAME:Linda Barnicott Publishing, LLC
X-ORIGINAL-URL:https://lindabarnicott.com
X-WR-CALDESC:Events for Linda Barnicott Publishing, LLC
REFRESH-INTERVAL;VALUE=DURATION:PT1H
X-Robots-Tag:noindex
X-PUBLISHED-TTL:PT1H
BEGIN:VTIMEZONE
TZID:America/New_York
BEGIN:DAYLIGHT
TZOFFSETFROM:-0500
TZOFFSETTO:-0400
TZNAME:EDT
DTSTART:20240310T070000
END:DAYLIGHT
BEGIN:STANDARD
TZOFFSETFROM:-0400
TZOFFSETTO:-0500
TZNAME:EST
DTSTART:20241103T060000
END:STANDARD
BEGIN:DAYLIGHT
TZOFFSETFROM:-0500
TZOFFSETTO:-0400
TZNAME:EDT
DTSTART:20250309T070000
END:DAYLIGHT
BEGIN:STANDARD
TZOFFSETFROM:-0400
TZOFFSETTO:-0500
TZNAME:EST
DTSTART:20251102T060000
END:STANDARD
BEGIN:DAYLIGHT
TZOFFSETFROM:-0500
TZOFFSETTO:-0400
TZNAME:EDT
DTSTART:20260308T070000
END:DAYLIGHT
BEGIN:STANDARD
TZOFFSETFROM:-0400
TZOFFSETTO:-0500
TZNAME:EST
DTSTART:20261101T060000
END:STANDARD
END:VTIMEZONE
BEGIN:VEVENT
DTSTART;TZID=America/New_York:20251224T110000
DTEND;TZID=America/New_York:20251224T150000
DTSTAMP:20260419T105410
CREATED:20251115T200456Z
LAST-MODIFIED:20251115T200456Z
UID:18657-1766574000-1766588400@lindabarnicott.com
SUMMARY:Peoples Gas Holiday Market
DESCRIPTION:
URL:https://lindabarnicott.com/event/peoples-gas-holiday-market-35/
LOCATION:PA
END:VEVENT
BEGIN:VEVENT
DTSTART;TZID=America/New_York:20251231T170000
DTEND;TZID=America/New_York:20251231T230000
DTSTAMP:20260419T105410
CREATED:20251115T200532Z
LAST-MODIFIED:20251115T200532Z
UID:18659-1767200400-1767222000@lindabarnicott.com
SUMMARY:Peoples Gas Holiday Market
DESCRIPTION:
URL:https://lindabarnicott.com/event/peoples-gas-holiday-market-36/
LOCATION:PA
END:VEVENT
END:VCALENDAR