BEGIN:VCALENDAR
VERSION:2.0
PRODID:-//Linda Barnicott Publishing, LLC - ECPv6.15.17//NONSGML v1.0//EN
CALSCALE:GREGORIAN
METHOD:PUBLISH
X-ORIGINAL-URL:https://lindabarnicott.com
X-WR-CALDESC:Events for Linda Barnicott Publishing, LLC
REFRESH-INTERVAL;VALUE=DURATION:PT1H
X-Robots-Tag:noindex
X-PUBLISHED-TTL:PT1H
BEGIN:VTIMEZONE
TZID:America/New_York
BEGIN:DAYLIGHT
TZOFFSETFROM:-0500
TZOFFSETTO:-0400
TZNAME:EDT
DTSTART:20180311T070000
END:DAYLIGHT
BEGIN:STANDARD
TZOFFSETFROM:-0400
TZOFFSETTO:-0500
TZNAME:EST
DTSTART:20181104T060000
END:STANDARD
BEGIN:DAYLIGHT
TZOFFSETFROM:-0500
TZOFFSETTO:-0400
TZNAME:EDT
DTSTART:20190310T070000
END:DAYLIGHT
BEGIN:STANDARD
TZOFFSETFROM:-0400
TZOFFSETTO:-0500
TZNAME:EST
DTSTART:20191103T060000
END:STANDARD
BEGIN:DAYLIGHT
TZOFFSETFROM:-0500
TZOFFSETTO:-0400
TZNAME:EDT
DTSTART:20200308T070000
END:DAYLIGHT
BEGIN:STANDARD
TZOFFSETFROM:-0400
TZOFFSETTO:-0500
TZNAME:EST
DTSTART:20201101T060000
END:STANDARD
END:VTIMEZONE
BEGIN:VEVENT
DTSTART;TZID=America/New_York:20191102T090000
DTEND;TZID=America/New_York:20191102T150000
DTSTAMP:20260420T075020
CREATED:20191003T193240Z
LAST-MODIFIED:20191003T193240Z
UID:15166-1572685200-1572706800@lindabarnicott.com
SUMMARY:Christmas Affair
DESCRIPTION:
URL:https://lindabarnicott.com/event/christmas-affair/
LOCATION:John McMillan Presbyterian Church\, 875 Clifton Rd\, Bethel Park\, PA\, 15102\, United States
END:VEVENT
END:VCALENDAR